BEGIN:VCALENDAR
VERSION:2.0
PRODID:-//pretalx//programme.bigre.coop//bigre-rencontre-2022//talk//YVGJF8
BEGIN:VTIMEZONE
TZID:CET
BEGIN:STANDARD
DTSTART:20001029T040000
RRULE:FREQ=YEARLY;BYDAY=-1SU;BYMONTH=10
TZNAME:CET
TZOFFSETFROM:+0200
TZOFFSETTO:+0100
END:STANDARD
BEGIN:DAYLIGHT
DTSTART:20000326T030000
RRULE:FREQ=YEARLY;BYDAY=-1SU;BYMONTH=3
TZNAME:CEST
TZOFFSETFROM:+0100
TZOFFSETTO:+0200
END:DAYLIGHT
END:VTIMEZONE
BEGIN:VEVENT
UID:pretalx-bigre-rencontre-2022-YVGJF8@programme.bigre.coop
DTSTART;TZID=CET:20220823T143000
DTEND;TZID=CET:20220823T170000
DESCRIPTION:Pour comprendre les bases de l'informatique : ce qu'il se passe
  derrière l'écran\, d'un point de vue matériel et logiciel\, car un·e 
 utilisateur·trice averti·e en vaut deux.
DTSTAMP:20260421T115959Z
LOCATION:Salle Héron
SUMMARY:Qu'est-ce qu'il y a dans mon ordinateur ou mon smartphone? - Matthi
 eu Hubert
URL:https://programme.bigre.coop/bigre-rencontre-2022/talk/YVGJF8/
END:VEVENT
END:VCALENDAR
