BEGIN:VCALENDAR
VERSION:2.0
PRODID:-//pretalx//programme.bigre.coop//bigre-rencontre-2022//talk//YTZ9JQ
BEGIN:VTIMEZONE
TZID:CET
BEGIN:STANDARD
DTSTART:20001029T040000
RRULE:FREQ=YEARLY;BYDAY=-1SU;BYMONTH=10
TZNAME:CET
TZOFFSETFROM:+0200
TZOFFSETTO:+0100
END:STANDARD
BEGIN:DAYLIGHT
DTSTART:20000326T030000
RRULE:FREQ=YEARLY;BYDAY=-1SU;BYMONTH=3
TZNAME:CEST
TZOFFSETFROM:+0100
TZOFFSETTO:+0200
END:DAYLIGHT
END:VTIMEZONE
BEGIN:VEVENT
UID:pretalx-bigre-rencontre-2022-YTZ9JQ@programme.bigre.coop
DTSTART;TZID=CET:20220823T090000
DTEND;TZID=CET:20220823T120000
DESCRIPTION:Nous proposons dans cet atelier de travailler le concept de val
 idisme en utilisant la Communication Non Violente (CNV).
DTSTAMP:20260421T120102Z
LOCATION:Salle Gabian
SUMMARY:Validisme : échapper à la hiérarchie des corps et des esprits ? 
 - Béatrice Ray\, Arielle Girot
URL:https://programme.bigre.coop/bigre-rencontre-2022/talk/YTZ9JQ/
END:VEVENT
END:VCALENDAR
