BEGIN:VCALENDAR
VERSION:2.0
PRODID:-//pretalx//programme.bigre.coop//bigre-rencontre-2022//talk//YF7QTD
BEGIN:VTIMEZONE
TZID:CET
BEGIN:STANDARD
DTSTART:20001029T040000
RRULE:FREQ=YEARLY;BYDAY=-1SU;BYMONTH=10
TZNAME:CET
TZOFFSETFROM:+0200
TZOFFSETTO:+0100
END:STANDARD
BEGIN:DAYLIGHT
DTSTART:20000326T030000
RRULE:FREQ=YEARLY;BYDAY=-1SU;BYMONTH=3
TZNAME:CEST
TZOFFSETFROM:+0100
TZOFFSETTO:+0200
END:DAYLIGHT
END:VTIMEZONE
BEGIN:VEVENT
UID:pretalx-bigre-rencontre-2022-YF7QTD@programme.bigre.coop
DTSTART;TZID=CET:20220823T090000
DTEND;TZID=CET:20220823T120000
DESCRIPTION:C'est un moment pour soi\, découvrir comment on peut développ
 er son souffle et libérer sa voix par une expérience du corps.
DTSTAMP:20260421T120011Z
LOCATION:Salle Oratoire
SUMMARY:Souffle et voix - Anne Dubreil
URL:https://programme.bigre.coop/bigre-rencontre-2022/talk/YF7QTD/
END:VEVENT
END:VCALENDAR
