BEGIN:VCALENDAR
VERSION:2.0
PRODID:-//pretalx//programme.bigre.coop//bigre-rencontre-2022//talk//WTU3TY
BEGIN:VTIMEZONE
TZID:CET
BEGIN:STANDARD
DTSTART:20001029T040000
RRULE:FREQ=YEARLY;BYDAY=-1SU;BYMONTH=10
TZNAME:CET
TZOFFSETFROM:+0200
TZOFFSETTO:+0100
END:STANDARD
BEGIN:DAYLIGHT
DTSTART:20000326T030000
RRULE:FREQ=YEARLY;BYDAY=-1SU;BYMONTH=3
TZNAME:CEST
TZOFFSETFROM:+0100
TZOFFSETTO:+0200
END:DAYLIGHT
END:VTIMEZONE
BEGIN:VEVENT
UID:pretalx-bigre-rencontre-2022-WTU3TY@programme.bigre.coop
DTSTART;TZID=CET:20220817T210000
DTEND;TZID=CET:20220817T230000
DESCRIPTION:Pas de Bigre sans paillote... C'est les deux pieds dans le sabl
 e\, quelques bonbons dans le bec et un verre d'un breuvage sétois alcooli
 sé ou non\, que tu te trémousseras au rythme des flots ! \n\n//\n\nIt wo
 uldn’t be Bigre without the beach… With your feet in the sand and a S
 ète cocktail (virgin or alcoholic) in your hand\, you’ll be dancing to 
 the rhythm of the waves!
DTSTAMP:20260421T115856Z
LOCATION:Hors Lazaret
SUMMARY:Paillote & cie : let's dance! // Beach party: Let’s dance! - 
URL:https://programme.bigre.coop/bigre-rencontre-2022/talk/WTU3TY/
END:VEVENT
END:VCALENDAR
