BEGIN:VCALENDAR
VERSION:2.0
PRODID:-//pretalx//programme.bigre.coop//bigre-rencontre-2022//talk//UMTSTR
BEGIN:VTIMEZONE
TZID:CET
BEGIN:STANDARD
DTSTART:20001029T040000
RRULE:FREQ=YEARLY;BYDAY=-1SU;BYMONTH=10
TZNAME:CET
TZOFFSETFROM:+0200
TZOFFSETTO:+0100
END:STANDARD
BEGIN:DAYLIGHT
DTSTART:20000326T030000
RRULE:FREQ=YEARLY;BYDAY=-1SU;BYMONTH=3
TZNAME:CEST
TZOFFSETFROM:+0100
TZOFFSETTO:+0200
END:DAYLIGHT
END:VTIMEZONE
BEGIN:VEVENT
UID:pretalx-bigre-rencontre-2022-UMTSTR@programme.bigre.coop
DTSTART;TZID=CET:20220823T090000
DTEND;TZID=CET:20220823T120000
DESCRIPTION:L'intention est de proposer une approche qui apporte à un coll
 ectif coopératif et solidaire et/ou sa·son responsable\, des pistes pour
  vivre cette étape avec le plus d'efficacité et de sérénité\, soit so
 us la forme d'un diagnostic global\, soit à partir d'une situation vécue
  par une personne.\n\nLes participant·es peuvent s'inscrire à un des deu
 x temps (le lundi après-midi de 14h30 à 17h) ou aux deux temps.
DTSTAMP:20260421T115830Z
LOCATION:Salle Cette
SUMMARY:Constellation pour la Transition Démocratique (gouvernance) - (2/2
 ) - Suzanne Chatard\, Béatrice Ray
URL:https://programme.bigre.coop/bigre-rencontre-2022/talk/UMTSTR/
END:VEVENT
END:VCALENDAR
