BEGIN:VCALENDAR
VERSION:2.0
PRODID:-//pretalx//programme.bigre.coop//bigre-rencontre-2022//talk//STND7D
BEGIN:VTIMEZONE
TZID:CET
BEGIN:STANDARD
DTSTART:20001029T040000
RRULE:FREQ=YEARLY;BYDAY=-1SU;BYMONTH=10
TZNAME:CET
TZOFFSETFROM:+0200
TZOFFSETTO:+0100
END:STANDARD
BEGIN:DAYLIGHT
DTSTART:20000326T030000
RRULE:FREQ=YEARLY;BYDAY=-1SU;BYMONTH=3
TZNAME:CEST
TZOFFSETFROM:+0100
TZOFFSETTO:+0200
END:DAYLIGHT
END:VTIMEZONE
BEGIN:VEVENT
UID:pretalx-bigre-rencontre-2022-STND7D@programme.bigre.coop
DTSTART;TZID=CET:20220823T090000
DTEND;TZID=CET:20220823T120000
DESCRIPTION:Décomplexer son image vidéo de façon ludique avec simplifica
 tion de l'outil. Propositions\, ressources et outils pratiques immédiatem
 ent applicables !
DTSTAMP:20260421T115857Z
LOCATION:Salle Martin-pêcheur 1
SUMMARY:Initiation à la vidéo avec son smartphone - Dominique Chailan
URL:https://programme.bigre.coop/bigre-rencontre-2022/talk/STND7D/
END:VEVENT
END:VCALENDAR
