BEGIN:VCALENDAR
VERSION:2.0
PRODID:-//pretalx//programme.bigre.coop//bigre-rencontre-2022//talk//R3A9CM
BEGIN:VTIMEZONE
TZID:CET
BEGIN:STANDARD
DTSTART:20001029T040000
RRULE:FREQ=YEARLY;BYDAY=-1SU;BYMONTH=10
TZNAME:CET
TZOFFSETFROM:+0200
TZOFFSETTO:+0100
END:STANDARD
BEGIN:DAYLIGHT
DTSTART:20000326T030000
RRULE:FREQ=YEARLY;BYDAY=-1SU;BYMONTH=3
TZNAME:CEST
TZOFFSETFROM:+0100
TZOFFSETTO:+0200
END:DAYLIGHT
END:VTIMEZONE
BEGIN:VEVENT
UID:pretalx-bigre-rencontre-2022-R3A9CM@programme.bigre.coop
DTSTART;TZID=CET:20220823T143000
DTEND;TZID=CET:20220823T170000
DESCRIPTION:Avec l'aide du collectif\, viens construire ta feuille de route
  pour la suite de ton projet ! \n\nConditions d'accès : les participant·
 es s'engagent à avoir suivi le premier module de cette formation\, le lun
 di après-midi de 14h30 à 17h.
DTSTAMP:20260421T120000Z
LOCATION:Salle Aigrettes
SUMMARY:Analyse de ton modèle économique et création d'une feuille de ro
 ute (2/2) - Céline Viardot
URL:https://programme.bigre.coop/bigre-rencontre-2022/talk/R3A9CM/
END:VEVENT
END:VCALENDAR
