BEGIN:VCALENDAR
VERSION:2.0
PRODID:-//pretalx//programme.bigre.coop//bigre-rencontre-2022//talk//QMQMSK
BEGIN:VTIMEZONE
TZID:CET
BEGIN:STANDARD
DTSTART:20001029T040000
RRULE:FREQ=YEARLY;BYDAY=-1SU;BYMONTH=10
TZNAME:CET
TZOFFSETFROM:+0200
TZOFFSETTO:+0100
END:STANDARD
BEGIN:DAYLIGHT
DTSTART:20000326T030000
RRULE:FREQ=YEARLY;BYDAY=-1SU;BYMONTH=3
TZNAME:CEST
TZOFFSETFROM:+0100
TZOFFSETTO:+0200
END:DAYLIGHT
END:VTIMEZONE
BEGIN:VEVENT
UID:pretalx-bigre-rencontre-2022-QMQMSK@programme.bigre.coop
DTSTART;TZID=CET:20220822T173000
DTEND;TZID=CET:20220822T184500
DESCRIPTION:Atelier chaque jour pour préparer  la scène ouverte de jeudi 
 soir et répéter chant\, morceau de musique\, sketch\, poésie\, chorale 
 féministe... individuel ou collectif.\n\n// \n\nDaily workshops to prepar
 e and rehearse\, either independently or as a group\, for Thursday evening
 ’s open mic – songs\, musical numbers\, sketches\, poetry readings\, a
  feminist choir …
DTSTAMP:20260421T115830Z
LOCATION:Salle Héron
SUMMARY:Préparation à la scène ouverte de jeudi // Preparation for Thurs
 day’s open mic night - Marlène Tran Boutier
URL:https://programme.bigre.coop/bigre-rencontre-2022/talk/QMQMSK/
END:VEVENT
END:VCALENDAR
