BEGIN:VCALENDAR
VERSION:2.0
PRODID:-//pretalx//programme.bigre.coop//bigre-rencontre-2022//talk//QFXC39
BEGIN:VTIMEZONE
TZID:CET
BEGIN:STANDARD
DTSTART:20001029T040000
RRULE:FREQ=YEARLY;BYDAY=-1SU;BYMONTH=10
TZNAME:CET
TZOFFSETFROM:+0200
TZOFFSETTO:+0100
END:STANDARD
BEGIN:DAYLIGHT
DTSTART:20000326T030000
RRULE:FREQ=YEARLY;BYDAY=-1SU;BYMONTH=3
TZNAME:CEST
TZOFFSETFROM:+0100
TZOFFSETTO:+0200
END:DAYLIGHT
END:VTIMEZONE
BEGIN:VEVENT
UID:pretalx-bigre-rencontre-2022-QFXC39@programme.bigre.coop
DTSTART;TZID=CET:20220825T100000
DTEND;TZID=CET:20220825T120000
DESCRIPTION:Comment structurer nos coopérations entre co-entrepreneur·eus
 es? \nÉchanges de pratiques et partage d’expériences\, atelier conçu 
 collectivement par l'équipe Territoires & Sens\, de Crealead en co-animat
 ion avec  Caroline De Ruyck et Charlène Marin.
DTSTAMP:20260421T115923Z
LOCATION:Salle Cette
SUMMARY:Comment structurer nos coopérations entre co-entrepreneur·euses? 
 Échanges de pratiques et partage d’expériences de trois intervenant·e
 s. - Élodie Millet\, Charlène Marin\, Caroline de Ruyck
URL:https://programme.bigre.coop/bigre-rencontre-2022/talk/QFXC39/
END:VEVENT
END:VCALENDAR
