BEGIN:VCALENDAR
VERSION:2.0
PRODID:-//pretalx//programme.bigre.coop//bigre-rencontre-2022//talk//QEFETT
BEGIN:VTIMEZONE
TZID:CET
BEGIN:STANDARD
DTSTART:20001029T040000
RRULE:FREQ=YEARLY;BYDAY=-1SU;BYMONTH=10
TZNAME:CET
TZOFFSETFROM:+0200
TZOFFSETTO:+0100
END:STANDARD
BEGIN:DAYLIGHT
DTSTART:20000326T030000
RRULE:FREQ=YEARLY;BYDAY=-1SU;BYMONTH=3
TZNAME:CEST
TZOFFSETFROM:+0100
TZOFFSETTO:+0200
END:DAYLIGHT
END:VTIMEZONE
BEGIN:VEVENT
UID:pretalx-bigre-rencontre-2022-QEFETT@programme.bigre.coop
DTSTART;TZID=CET:20220822T143000
DTEND;TZID=CET:20220822T170000
DESCRIPTION:Un atelier qui vise à expliquer pourquoi connaître parfaiteme
 nt son produit ou service ainsi que les étapes de la vente ne suffit pas 
 toujours pour convaincre son client et décrocher le contrat. Ce qui fait 
 la différence\, c'est tout simplement les talents naturels du vendeur dir
 ectement liés à sa typologie de personnalité. \n\nLes identifier\, s'au
 toriser à être soi (donc investir pleinement sa personnalité et dévelo
 pper son agilité relationnelle tout en restant authentique)\, et identifi
 er les motivations profondes de l'acheteur·euse\, elles aussi liées à s
 on type de personnalité\, permet d'augmenter ses ventes\, tout en restant
  naturel·le\, authentique et dans une position gagnant·e-gagnant·e.
DTSTAMP:20260421T115959Z
LOCATION:Salle Gabian
SUMMARY:Développer ses compétences au service de la relation client - Cla
 ire Sauveur
URL:https://programme.bigre.coop/bigre-rencontre-2022/talk/QEFETT/
END:VEVENT
END:VCALENDAR
