BEGIN:VCALENDAR
VERSION:2.0
PRODID:-//pretalx//programme.bigre.coop//bigre-rencontre-2022//talk//QDQENY
BEGIN:VTIMEZONE
TZID:CET
BEGIN:STANDARD
DTSTART:20001029T040000
RRULE:FREQ=YEARLY;BYDAY=-1SU;BYMONTH=10
TZNAME:CET
TZOFFSETFROM:+0200
TZOFFSETTO:+0100
END:STANDARD
BEGIN:DAYLIGHT
DTSTART:20000326T030000
RRULE:FREQ=YEARLY;BYDAY=-1SU;BYMONTH=3
TZNAME:CEST
TZOFFSETFROM:+0100
TZOFFSETTO:+0200
END:DAYLIGHT
END:VTIMEZONE
BEGIN:VEVENT
UID:pretalx-bigre-rencontre-2022-QDQENY@programme.bigre.coop
DTSTART;TZID=CET:20220824T070000
DTEND;TZID=CET:20220824T081000
DESCRIPTION:Un atelier pour reprendre son souffle! Nous commencerons par pr
 atiquer sa respiration en profondeur pour mieux se recentrer. Ensuite\, un
  réveil en douceur du squelette\, des muscles et des tissus via divers pe
 tits exercices provenant du Bodyweather ou du Pilates afin d'avoir une éc
 oute corporelle et acquérir de l'énergie pour soi et à redistribuer. Ce
 ci se poursuivra par des exercices de mouvements avec contacts corporels\,
  de déplacements dans l'espace et d'improvisations avec un ou des partena
 ires afin d'aller vers l'autre\, de ré-apprendre peut-être à se toucher
 \, se délester de son poids\, soutenir l'autre\, s'épauler. \n\nCe sera 
 donc un temps pour se retrouver\, s'éveiller au mieux pour être plus dis
 ponible à ce que l'on va partager et apprendre des autres dans la journé
 e qui suit.
DTSTAMP:20260421T120101Z
LOCATION:Plage
SUMMARY:Un temps pour souffler et s'épauler - Cécile Guillaume
URL:https://programme.bigre.coop/bigre-rencontre-2022/talk/QDQENY/
END:VEVENT
END:VCALENDAR
