BEGIN:VCALENDAR
VERSION:2.0
PRODID:-//pretalx//programme.bigre.coop//bigre-rencontre-2022//talk//QCVMMV
BEGIN:VTIMEZONE
TZID:CET
BEGIN:STANDARD
DTSTART:20001029T040000
RRULE:FREQ=YEARLY;BYDAY=-1SU;BYMONTH=10
TZNAME:CET
TZOFFSETFROM:+0200
TZOFFSETTO:+0100
END:STANDARD
BEGIN:DAYLIGHT
DTSTART:20000326T030000
RRULE:FREQ=YEARLY;BYDAY=-1SU;BYMONTH=3
TZNAME:CEST
TZOFFSETFROM:+0100
TZOFFSETTO:+0200
END:DAYLIGHT
END:VTIMEZONE
BEGIN:VEVENT
UID:pretalx-bigre-rencontre-2022-QCVMMV@programme.bigre.coop
DTSTART;TZID=CET:20220825T100000
DTEND;TZID=CET:20220825T120000
DESCRIPTION:Mettre en récit\, lors d'un atelier\, des expériences personn
 elles trop souvent gardées dans le secret \, et pourquoi pas ? En trouvan
 t les mots pour décrire l'intime dans sa particularité\, chacun offrira 
 un imaginaire diversifié qui rend compte de la singularité des réalité
 s de chacun·e. \n\nEn deux séances\, les auteur·trices déploieront leu
 r écriture à travers quelques jeux d'écriture permettant de délier l'i
 maginaire jusqu'à la production de l'écrit proprement dit. Cet écrit es
 t court (maximum 10 minutes de lecture)\, parle en "je"\, explore l'intime
 \, ce qu'on n'ose pas dire\, les tabous\, interdits\, choses cocasses\, ho
 nteuses\, les anecdotes comiques ou dramatiques. \n\nConditions d'accès :
  avoir participé au premier atelier "écriture intimiste (1/2)" le mardi 
 après-midi de 14h30 à 17h.
DTSTAMP:20260421T115858Z
LOCATION:Pinède Frégate
SUMMARY:Écriture intimiste (2/2) - Bénédicte Monnoye
URL:https://programme.bigre.coop/bigre-rencontre-2022/talk/QCVMMV/
END:VEVENT
END:VCALENDAR
