BEGIN:VCALENDAR
VERSION:2.0
PRODID:-//pretalx//programme.bigre.coop//bigre-rencontre-2022//talk//NZJFLJ
BEGIN:VTIMEZONE
TZID:CET
BEGIN:STANDARD
DTSTART:20001029T040000
RRULE:FREQ=YEARLY;BYDAY=-1SU;BYMONTH=10
TZNAME:CET
TZOFFSETFROM:+0200
TZOFFSETTO:+0100
END:STANDARD
BEGIN:DAYLIGHT
DTSTART:20000326T030000
RRULE:FREQ=YEARLY;BYDAY=-1SU;BYMONTH=3
TZNAME:CEST
TZOFFSETFROM:+0100
TZOFFSETTO:+0200
END:DAYLIGHT
END:VTIMEZONE
BEGIN:VEVENT
UID:pretalx-bigre-rencontre-2022-NZJFLJ@programme.bigre.coop
DTSTART;TZID=CET:20220825T173000
DTEND;TZID=CET:20220825T184500
DESCRIPTION:L'atelier présentera essentiellement le projet Co'Opp\, autour
  de l'addiction et des bifurcations de parcours par la coopération. \nCel
 a sera aussi l'occasion de tisser des liens avec les équipes des coopéra
 tives et avec les groupes de pair aidant·es déjà constitués.
DTSTAMP:20260421T120103Z
LOCATION:Pinède Méditerranée
SUMMARY:Pair-aidance et présentation du projet Co'Opp - Catherine Bodet\, 
 Noémie de Grenier
URL:https://programme.bigre.coop/bigre-rencontre-2022/talk/NZJFLJ/
END:VEVENT
END:VCALENDAR
