BEGIN:VCALENDAR
VERSION:2.0
PRODID:-//pretalx//programme.bigre.coop//bigre-rencontre-2022//talk//NMD99F
BEGIN:VTIMEZONE
TZID:CET
BEGIN:STANDARD
DTSTART:20001029T040000
RRULE:FREQ=YEARLY;BYDAY=-1SU;BYMONTH=10
TZNAME:CET
TZOFFSETFROM:+0200
TZOFFSETTO:+0100
END:STANDARD
BEGIN:DAYLIGHT
DTSTART:20000326T030000
RRULE:FREQ=YEARLY;BYDAY=-1SU;BYMONTH=3
TZNAME:CEST
TZOFFSETFROM:+0100
TZOFFSETTO:+0200
END:DAYLIGHT
END:VTIMEZONE
BEGIN:VEVENT
UID:pretalx-bigre-rencontre-2022-NMD99F@programme.bigre.coop
DTSTART;TZID=CET:20220823T173000
DTEND;TZID=CET:20220823T184500
DESCRIPTION:Sous la pinède\, viens clôturer ton après-midi en douceur\, 
 en écoutant la nouvelle "L'artiste et la forteresse"\, écrite et lue par
  Mathilde Auzias.
DTSTAMP:20260421T115924Z
LOCATION:Pinède Frégate
SUMMARY:Lecture de "L'artiste et la forteresse" - Mathilde Auzias
URL:https://programme.bigre.coop/bigre-rencontre-2022/talk/NMD99F/
END:VEVENT
END:VCALENDAR
