BEGIN:VCALENDAR
VERSION:2.0
PRODID:-//pretalx//programme.bigre.coop//bigre-rencontre-2022//talk//NDUHAJ
BEGIN:VTIMEZONE
TZID:CET
BEGIN:STANDARD
DTSTART:20001029T040000
RRULE:FREQ=YEARLY;BYDAY=-1SU;BYMONTH=10
TZNAME:CET
TZOFFSETFROM:+0200
TZOFFSETTO:+0100
END:STANDARD
BEGIN:DAYLIGHT
DTSTART:20000326T030000
RRULE:FREQ=YEARLY;BYDAY=-1SU;BYMONTH=3
TZNAME:CEST
TZOFFSETFROM:+0100
TZOFFSETTO:+0200
END:DAYLIGHT
END:VTIMEZONE
BEGIN:VEVENT
UID:pretalx-bigre-rencontre-2022-NDUHAJ@programme.bigre.coop
DTSTART;TZID=CET:20220826T090000
DTEND;TZID=CET:20220826T120000
DESCRIPTION:Cet atelier se déroulera sous la forme du jeu édité par l’
 ANACT. C’est un jeu de sensibilisation pour apprendre à démasquer les 
 différentes facettes du sexisme et savoir identifier les composantes poss
 ibles du sexisme dans les situations de travail au quotidien. Il facilite 
 une prise de conscience du sujet et constitue ainsi la première étape d
 ’une politique de prévention. Ce jeu a été conçu suite aux investiga
 tions menées auprès de salarié·es et manageur·euses de différents se
 rvices d’une organisation.
DTSTAMP:20260421T120000Z
LOCATION:Salle Méditerranée
SUMMARY:Sexisme sans façon - Juliette Sanchez-Lambert\, Claire Morandeau
URL:https://programme.bigre.coop/bigre-rencontre-2022/talk/NDUHAJ/
END:VEVENT
END:VCALENDAR
