BEGIN:VCALENDAR
VERSION:2.0
PRODID:-//pretalx//programme.bigre.coop//bigre-rencontre-2022//talk//MXDQYA
BEGIN:VTIMEZONE
TZID:CET
BEGIN:STANDARD
DTSTART:20001029T040000
RRULE:FREQ=YEARLY;BYDAY=-1SU;BYMONTH=10
TZNAME:CET
TZOFFSETFROM:+0200
TZOFFSETTO:+0100
END:STANDARD
BEGIN:DAYLIGHT
DTSTART:20000326T030000
RRULE:FREQ=YEARLY;BYDAY=-1SU;BYMONTH=3
TZNAME:CEST
TZOFFSETFROM:+0100
TZOFFSETTO:+0200
END:DAYLIGHT
END:VTIMEZONE
BEGIN:VEVENT
UID:pretalx-bigre-rencontre-2022-MXDQYA@programme.bigre.coop
DTSTART;TZID=CET:20220824T191500
DTEND;TZID=CET:20220824T193000
DESCRIPTION:C'est le moment de garder un souvenir de cette édition 2022...
  Rejoins-nous pour la photo devant la terrasse du restaurant du Lazaret!\n
 \n//\n\nIt’s time to immortalise La Bigre! Rencontre 2022. Join us for a
  group photo in front of the Lazaret restaurant terrace!
DTSTAMP:20260421T115959Z
LOCATION:pinède
SUMMARY:Photo de groupe Bigre! Rencontre 2022 //  La Bigre! Rencontre 2022 
 group photo - 
URL:https://programme.bigre.coop/bigre-rencontre-2022/talk/MXDQYA/
END:VEVENT
END:VCALENDAR
