BEGIN:VCALENDAR
VERSION:2.0
PRODID:-//pretalx//programme.bigre.coop//bigre-rencontre-2022//talk//M938LC
BEGIN:VTIMEZONE
TZID:CET
BEGIN:STANDARD
DTSTART:20001029T040000
RRULE:FREQ=YEARLY;BYDAY=-1SU;BYMONTH=10
TZNAME:CET
TZOFFSETFROM:+0200
TZOFFSETTO:+0100
END:STANDARD
BEGIN:DAYLIGHT
DTSTART:20000326T030000
RRULE:FREQ=YEARLY;BYDAY=-1SU;BYMONTH=3
TZNAME:CEST
TZOFFSETFROM:+0100
TZOFFSETTO:+0200
END:DAYLIGHT
END:VTIMEZONE
BEGIN:VEVENT
UID:pretalx-bigre-rencontre-2022-M938LC@programme.bigre.coop
DTSTART;TZID=CET:20220824T143000
DTEND;TZID=CET:20220824T170000
DESCRIPTION:Les initiatrices du projet de l’Archipel proposent de sortir 
 de la conception scolaire de la linéarité des parcours professionnels po
 ur inventer elles-mêmes le monde dans lequel elles rêvent d’œuvrer : 
 un Archipel de micro-collectifs\, où chaque « îlot » est composé de 6
  à 10 travailleur·euses autonomes travaillant en proximité géographiqu
 e et/ou intellectuelle\, avec une petite structure (SCOP\, association) d
 édiée. Les îlots sont reliés entre eux au gré des besoins (mutualisat
 ions\, solidarités\, opportunités de travail commun\, etc.). Chaque îlo
 t peut servir de terre d'accueil à des besoins spécifiques. \n\nEn Breta
 gne\, la création d'Eskemm·Films a permis de salarier des intermittentes
  sur des films de commande comme sur des projets personnels. En Rhône-Alp
 es\, l'émergence du Parapluie a permis de développer co-accompagnement\,
  solidarités et réflexion sur la place du travail. \n\nDemain ... peut-
 être que vous créerez le vôtre ? Venez partager vos envies\, imaginer d
 'autres espaces de travail\, dans une démarche de partage d'expérience e
 t d'émulation.
DTSTAMP:20260421T115856Z
LOCATION:Pinède Frégate
SUMMARY:Créer des SCOP en Archipel : faire un prototype de la mutuelle de 
 travail #BigreMut - Marie Dorge
URL:https://programme.bigre.coop/bigre-rencontre-2022/talk/M938LC/
END:VEVENT
END:VCALENDAR
