BEGIN:VCALENDAR
VERSION:2.0
PRODID:-//pretalx//programme.bigre.coop//bigre-rencontre-2022//talk//M8DCYC
BEGIN:VTIMEZONE
TZID:CET
BEGIN:STANDARD
DTSTART:20001029T040000
RRULE:FREQ=YEARLY;BYDAY=-1SU;BYMONTH=10
TZNAME:CET
TZOFFSETFROM:+0200
TZOFFSETTO:+0100
END:STANDARD
BEGIN:DAYLIGHT
DTSTART:20000326T030000
RRULE:FREQ=YEARLY;BYDAY=-1SU;BYMONTH=3
TZNAME:CEST
TZOFFSETFROM:+0100
TZOFFSETTO:+0200
END:DAYLIGHT
END:VTIMEZONE
BEGIN:VEVENT
UID:pretalx-bigre-rencontre-2022-M8DCYC@programme.bigre.coop
DTSTART;TZID=CET:20220823T143000
DTEND;TZID=CET:20220823T170000
DESCRIPTION:Conditions d'accès : faire partie du CSE de Coopaname\, Oxalis
  ou du CE de Smart. Ouvert également aux éventuel⋅les chercheur⋅ses 
 - observateur⋅ices et représentant.es syndicaux.ales. \nRegroupement de
 s élu·es des CSE (Conseil Social et Économique) de nos coopératives. T
 emps déchanges et bilans inter CSE.
DTSTAMP:20260421T115858Z
LOCATION:Salle Gabian
SUMMARY:Échanges de pratiques des différents CSE - Pauline Mauve-Buchpan\
 , Séverine Imbert - Oxalis
URL:https://programme.bigre.coop/bigre-rencontre-2022/talk/M8DCYC/
END:VEVENT
END:VCALENDAR
