BEGIN:VCALENDAR
VERSION:2.0
PRODID:-//pretalx//programme.bigre.coop//bigre-rencontre-2022//talk//KPS3MW
BEGIN:VTIMEZONE
TZID:CET
BEGIN:STANDARD
DTSTART:20001029T040000
RRULE:FREQ=YEARLY;BYDAY=-1SU;BYMONTH=10
TZNAME:CET
TZOFFSETFROM:+0200
TZOFFSETTO:+0100
END:STANDARD
BEGIN:DAYLIGHT
DTSTART:20000326T030000
RRULE:FREQ=YEARLY;BYDAY=-1SU;BYMONTH=3
TZNAME:CEST
TZOFFSETFROM:+0100
TZOFFSETTO:+0200
END:DAYLIGHT
END:VTIMEZONE
BEGIN:VEVENT
UID:pretalx-bigre-rencontre-2022-KPS3MW@programme.bigre.coop
DTSTART;TZID=CET:20220822T143000
DTEND;TZID=CET:20220822T170000
DESCRIPTION:Grâce à la session d'exploration collective\, viens découvri
 r collectivement l'état de ton projet et son implication sur le modèle 
 économique de ton activité ! \n\nConditions d'accès : les participant·
 es s'engagent à suivre le second module de cette formation\, le mardi apr
 ès-midi de 14h30 à 17h.
DTSTAMP:20260421T115828Z
LOCATION:Salle Aigrettes
SUMMARY:Analyse de ton modèle économique et création d'une feuille de ro
 ute (1/2) - Céline Viardot
URL:https://programme.bigre.coop/bigre-rencontre-2022/talk/KPS3MW/
END:VEVENT
END:VCALENDAR
