BEGIN:VCALENDAR
VERSION:2.0
PRODID:-//pretalx//programme.bigre.coop//bigre-rencontre-2022//talk//JRTET9
BEGIN:VTIMEZONE
TZID:CET
BEGIN:STANDARD
DTSTART:20001029T040000
RRULE:FREQ=YEARLY;BYDAY=-1SU;BYMONTH=10
TZNAME:CET
TZOFFSETFROM:+0200
TZOFFSETTO:+0100
END:STANDARD
BEGIN:DAYLIGHT
DTSTART:20000326T030000
RRULE:FREQ=YEARLY;BYDAY=-1SU;BYMONTH=3
TZNAME:CEST
TZOFFSETFROM:+0100
TZOFFSETTO:+0200
END:DAYLIGHT
END:VTIMEZONE
BEGIN:VEVENT
UID:pretalx-bigre-rencontre-2022-JRTET9@programme.bigre.coop
DTSTART;TZID=CET:20220823T090000
DTEND;TZID=CET:20220823T120000
DESCRIPTION:Des initiatives existent déjà\, comment les faire connaître 
 au-delà des Coopératives d'Activité et d'Emploi (CAE\, forme française
  de coopératives de travailleur·euses) utilisatrices\, comment développ
 er un modèle économique où l'on paie la fabrication et non l'usage\, co
 mment construire une communauté d'utilisateur·trices et de développeur
 ·euses inter-CAE ? Et finalement\, comment développer de nouvelles idée
 s adaptées à nos besoins de CAE ?
DTSTAMP:20260421T115924Z
LOCATION:Salle Aigrettes
SUMMARY:Construire des outils numériques libres pour la communauté - Dimi
 tri Robert\, Vincent Lucy
URL:https://programme.bigre.coop/bigre-rencontre-2022/talk/JRTET9/
END:VEVENT
END:VCALENDAR
