BEGIN:VCALENDAR
VERSION:2.0
PRODID:-//pretalx//programme.bigre.coop//bigre-rencontre-2022//talk//JLR9DP
BEGIN:VTIMEZONE
TZID:CET
BEGIN:STANDARD
DTSTART:20001029T040000
RRULE:FREQ=YEARLY;BYDAY=-1SU;BYMONTH=10
TZNAME:CET
TZOFFSETFROM:+0200
TZOFFSETTO:+0100
END:STANDARD
BEGIN:DAYLIGHT
DTSTART:20000326T030000
RRULE:FREQ=YEARLY;BYDAY=-1SU;BYMONTH=3
TZNAME:CEST
TZOFFSETFROM:+0100
TZOFFSETTO:+0200
END:DAYLIGHT
END:VTIMEZONE
BEGIN:VEVENT
UID:pretalx-bigre-rencontre-2022-JLR9DP@programme.bigre.coop
DTSTART;TZID=CET:20220825T143000
DTEND;TZID=CET:20220825T170000
DESCRIPTION:Dans cet atelier\, les participant·es expérimenteront l'infin
 ie richesse du papier avec plusieurs techniques de pliage et de découpe e
 n vue de réaliser des objets en volume (coquillages\, photophores\, fleur
 s\, plantes et autres végétaux). Objets décoratifs à poser\, à suspen
 dre... Un tapis de coupe\, un scalpel\, une règle suffiront à transforme
 r une feuille de papier en objet 3D... Le papier\, c'est fantastique et c'
 est poétique !
DTSTAMP:20260421T115831Z
LOCATION:Salle Martin-pêcheur 1
SUMMARY:Création d'objets papier en volume - Marie-Hélène Taisne
URL:https://programme.bigre.coop/bigre-rencontre-2022/talk/JLR9DP/
END:VEVENT
END:VCALENDAR
