BEGIN:VCALENDAR
VERSION:2.0
PRODID:-//pretalx//programme.bigre.coop//bigre-rencontre-2022//talk//GTQWJE
BEGIN:VTIMEZONE
TZID:CET
BEGIN:STANDARD
DTSTART:20001029T040000
RRULE:FREQ=YEARLY;BYDAY=-1SU;BYMONTH=10
TZNAME:CET
TZOFFSETFROM:+0200
TZOFFSETTO:+0100
END:STANDARD
BEGIN:DAYLIGHT
DTSTART:20000326T030000
RRULE:FREQ=YEARLY;BYDAY=-1SU;BYMONTH=3
TZNAME:CEST
TZOFFSETFROM:+0100
TZOFFSETTO:+0200
END:DAYLIGHT
END:VTIMEZONE
BEGIN:VEVENT
UID:pretalx-bigre-rencontre-2022-GTQWJE@programme.bigre.coop
DTSTART;TZID=CET:20220823T210000
DTEND;TZID=CET:20220823T230000
DESCRIPTION:Bar à jeux\, jeux de mots\, ou gamin' english\, choisis ton pi
 on\, ton plateau ou ton crayon\, en français et même en anglais. Il y en
  a pour tous les goûts\, viens jouer\, lire tes ratures et rencontrer ton
 ·ta voisin·e de damier ou ton·ta partenaire d'atouts.\n\n//\n\nStep up 
 to the game bar\, have a go at some word games or try out “Gamin’ Engl
 ish” – the choice is yours\, in French or English. There’s something
  for everyone\, so come have fun\, play with words and bump elbows at the 
 chessboard.
DTSTAMP:20260421T120104Z
LOCATION:pinède
SUMMARY:Soirée jeux! // Game night! - 
URL:https://programme.bigre.coop/bigre-rencontre-2022/talk/GTQWJE/
END:VEVENT
END:VCALENDAR
