BEGIN:VCALENDAR
VERSION:2.0
PRODID:-//pretalx//programme.bigre.coop//bigre-rencontre-2022//talk//GRWWYE
BEGIN:VTIMEZONE
TZID:CET
BEGIN:STANDARD
DTSTART:20001029T040000
RRULE:FREQ=YEARLY;BYDAY=-1SU;BYMONTH=10
TZNAME:CET
TZOFFSETFROM:+0200
TZOFFSETTO:+0100
END:STANDARD
BEGIN:DAYLIGHT
DTSTART:20000326T030000
RRULE:FREQ=YEARLY;BYDAY=-1SU;BYMONTH=3
TZNAME:CEST
TZOFFSETFROM:+0100
TZOFFSETTO:+0200
END:DAYLIGHT
END:VTIMEZONE
BEGIN:VEVENT
UID:pretalx-bigre-rencontre-2022-GRWWYE@programme.bigre.coop
DTSTART;TZID=CET:20220823T090000
DTEND;TZID=CET:20220823T120000
DESCRIPTION:L'objet de l'atelier est de réfléchir à d'autres manières d
 e gouverner et gérer une Coopérative d'Activité et d'Emploi (CAE\, form
 e française de coopératives de travailleur·euses)\, à travers des exem
 ples concrets\, comme ceux de Babel.coop ou de Vecteur Activités. Cet ate
 lier est dans la continuité d'un atelier qui a eu lieu lors des rencontre
 s des CAE sur cette thématique. \n\nDes expériences concrètes seront pr
 ésentées\, qui s'inspirent de la sociocratie\, de l'holacratie et des m
 écanismes de démocratie participative (notamment une réflexion sur les 
 modes de scrutin et les modalités de délibération). La forme de l'ateli
 er sera participative\, avec une alternance petits groupes et grand groupe
 \, sur les thématiques de la gouvernance\, de l'opérationnel et du relat
 ionnel.
DTSTAMP:20260421T115829Z
LOCATION:Salle Méditerranée
SUMMARY:La gouvernance autrement d'une Coopérative d'Activité et d'Emploi
  (CAE) - Aurélien Pavageau
URL:https://programme.bigre.coop/bigre-rencontre-2022/talk/GRWWYE/
END:VEVENT
END:VCALENDAR
