BEGIN:VCALENDAR
VERSION:2.0
PRODID:-//pretalx//programme.bigre.coop//bigre-rencontre-2022//talk//FFHCKW
BEGIN:VTIMEZONE
TZID:CET
BEGIN:STANDARD
DTSTART:20001029T040000
RRULE:FREQ=YEARLY;BYDAY=-1SU;BYMONTH=10
TZNAME:CET
TZOFFSETFROM:+0200
TZOFFSETTO:+0100
END:STANDARD
BEGIN:DAYLIGHT
DTSTART:20000326T030000
RRULE:FREQ=YEARLY;BYDAY=-1SU;BYMONTH=3
TZNAME:CEST
TZOFFSETFROM:+0100
TZOFFSETTO:+0200
END:DAYLIGHT
END:VTIMEZONE
BEGIN:VEVENT
UID:pretalx-bigre-rencontre-2022-FFHCKW@programme.bigre.coop
DTSTART;TZID=CET:20220824T090000
DTEND;TZID=CET:20220824T120000
DESCRIPTION:Comment faciliter la Transition écologique et solidaire : part
 age d'expériences et synergies possibles : inter-connaissance\, échanges
  de pratiques\, mutualisation\, réponse à des appels d'offre en commun..
 .
DTSTAMP:20260421T115924Z
LOCATION:Pinède Méditerranée
SUMMARY:Comment faciliter la Transition écologique et solidaire : partage 
 d'expériences et synergies possibles - Caroline de Ruyck
URL:https://programme.bigre.coop/bigre-rencontre-2022/talk/FFHCKW/
END:VEVENT
END:VCALENDAR
