BEGIN:VCALENDAR
VERSION:2.0
PRODID:-//pretalx//programme.bigre.coop//bigre-rencontre-2022//talk//EDK7YB
BEGIN:VTIMEZONE
TZID:CET
BEGIN:STANDARD
DTSTART:20001029T040000
RRULE:FREQ=YEARLY;BYDAY=-1SU;BYMONTH=10
TZNAME:CET
TZOFFSETFROM:+0200
TZOFFSETTO:+0100
END:STANDARD
BEGIN:DAYLIGHT
DTSTART:20000326T030000
RRULE:FREQ=YEARLY;BYDAY=-1SU;BYMONTH=3
TZNAME:CEST
TZOFFSETFROM:+0100
TZOFFSETTO:+0200
END:DAYLIGHT
END:VTIMEZONE
BEGIN:VEVENT
UID:pretalx-bigre-rencontre-2022-EDK7YB@programme.bigre.coop
DTSTART;TZID=CET:20220826T090000
DTEND;TZID=CET:20220826T120000
DESCRIPTION:Découvrons ensemble le concept de plateforme de marque pour po
 ser les bases d’une communication efficace\, inspirante et sincère. App
 roprie-toi l’outil grâce à des consignes d’écriture claires. Repars
  plus solide\, doté·e de ta plateforme de marque rédigée et de toute l
 a confiance pour l’utiliser au service de ton activité.\nAtelier intér
 essant à faire avant : atelier de Mickaël sur l'Ikigaï professionnel.
DTSTAMP:20260421T120000Z
LOCATION:Salle Oratoire
SUMMARY:Plateforme de marque : un atelier de découverte et d’écriture -
  Samantha Breitembruch
URL:https://programme.bigre.coop/bigre-rencontre-2022/talk/EDK7YB/
END:VEVENT
END:VCALENDAR
