BEGIN:VCALENDAR
VERSION:2.0
PRODID:-//pretalx//programme.bigre.coop//bigre-rencontre-2022//talk//DBUAKW
BEGIN:VTIMEZONE
TZID:CET
BEGIN:STANDARD
DTSTART:20001029T040000
RRULE:FREQ=YEARLY;BYDAY=-1SU;BYMONTH=10
TZNAME:CET
TZOFFSETFROM:+0200
TZOFFSETTO:+0100
END:STANDARD
BEGIN:DAYLIGHT
DTSTART:20000326T030000
RRULE:FREQ=YEARLY;BYDAY=-1SU;BYMONTH=3
TZNAME:CEST
TZOFFSETFROM:+0100
TZOFFSETTO:+0200
END:DAYLIGHT
END:VTIMEZONE
BEGIN:VEVENT
UID:pretalx-bigre-rencontre-2022-DBUAKW@programme.bigre.coop
DTSTART;TZID=CET:20220823T143000
DTEND;TZID=CET:20220823T170000
DESCRIPTION:Un des points forts de la recherche-action "Transmissions coop
 ératives" est la rédaction d'un livre mêlant des récits de personnes e
 ntrantes et sortantes de postes de direction de Coopératives d'Activité 
 et d'Emploi (CAE\, forme française de coopératives de travailleur·euses
 ). Ce livre sortira en août 2022 aux éditions REPAS\, en primeur pour le
 s Bigres rencontres ! Cet atelier arpentera le livre et sera l'occasion d'
 un échange sur les besoins pour l'émergence d'initiatives pour accompagn
 er les transmissions en cours et à venir.
DTSTAMP:20260421T115858Z
LOCATION:Pinède Méditerranée
SUMMARY:Transmissions coopératives : arpentage des récits croisés - Cath
 erine Bodet\, Hilary McKee\, Renaud Metereau
URL:https://programme.bigre.coop/bigre-rencontre-2022/talk/DBUAKW/
END:VEVENT
END:VCALENDAR
