BEGIN:VCALENDAR
VERSION:2.0
PRODID:-//pretalx//programme.bigre.coop//bigre-rencontre-2022//talk//D7FPZD
BEGIN:VTIMEZONE
TZID:CET
BEGIN:STANDARD
DTSTART:20001029T040000
RRULE:FREQ=YEARLY;BYDAY=-1SU;BYMONTH=10
TZNAME:CET
TZOFFSETFROM:+0200
TZOFFSETTO:+0100
END:STANDARD
BEGIN:DAYLIGHT
DTSTART:20000326T030000
RRULE:FREQ=YEARLY;BYDAY=-1SU;BYMONTH=3
TZNAME:CEST
TZOFFSETFROM:+0100
TZOFFSETTO:+0200
END:DAYLIGHT
END:VTIMEZONE
BEGIN:VEVENT
UID:pretalx-bigre-rencontre-2022-D7FPZD@programme.bigre.coop
DTSTART;TZID=CET:20220824T143000
DTEND;TZID=CET:20220824T170000
DESCRIPTION:Jeu de plateau sur la copropriété et jeu de rôle d'une assem
 blée générale fictive.
DTSTAMP:20260421T115858Z
LOCATION:Salle Héron
SUMMARY:Atelier-rencontre copropriétaire La Copro des Possibles - Mathilde
  Auzias
URL:https://programme.bigre.coop/bigre-rencontre-2022/talk/D7FPZD/
END:VEVENT
END:VCALENDAR
