BEGIN:VCALENDAR
VERSION:2.0
PRODID:-//pretalx//programme.bigre.coop//bigre-rencontre-2022//talk//CST73M
BEGIN:VTIMEZONE
TZID:CET
BEGIN:STANDARD
DTSTART:20001029T040000
RRULE:FREQ=YEARLY;BYDAY=-1SU;BYMONTH=10
TZNAME:CET
TZOFFSETFROM:+0200
TZOFFSETTO:+0100
END:STANDARD
BEGIN:DAYLIGHT
DTSTART:20000326T030000
RRULE:FREQ=YEARLY;BYDAY=-1SU;BYMONTH=3
TZNAME:CEST
TZOFFSETFROM:+0100
TZOFFSETTO:+0200
END:DAYLIGHT
END:VTIMEZONE
BEGIN:VEVENT
UID:pretalx-bigre-rencontre-2022-CST73M@programme.bigre.coop
DTSTART;TZID=CET:20220822T220000
DTEND;TZID=CET:20220822T230000
DESCRIPTION:Tu as toujours rêver de pousser la chansonnette ? Sur une scè
 ne grandiose\, devant un public de feu et accompagné·e du plus grand orc
 hestre\, c'est ton moment!\n\n// \n\nAlways dreamed of being in the spotli
 ght? Your moment has arrived – take centre stage in front of an adoring 
 audience and sing your heart out with the accompaniment of the world’s g
 reatest orchestra!
DTSTAMP:20260421T115857Z
LOCATION:Théâtre
SUMMARY:Lundi\, c'est karaoké ! // Monday night karaoke! - 
URL:https://programme.bigre.coop/bigre-rencontre-2022/talk/CST73M/
END:VEVENT
END:VCALENDAR
