BEGIN:VCALENDAR
VERSION:2.0
PRODID:-//pretalx//programme.bigre.coop//bigre-rencontre-2022//talk//CDGTS3
BEGIN:VTIMEZONE
TZID:CET
BEGIN:STANDARD
DTSTART:20001029T040000
RRULE:FREQ=YEARLY;BYDAY=-1SU;BYMONTH=10
TZNAME:CET
TZOFFSETFROM:+0200
TZOFFSETTO:+0100
END:STANDARD
BEGIN:DAYLIGHT
DTSTART:20000326T030000
RRULE:FREQ=YEARLY;BYDAY=-1SU;BYMONTH=3
TZNAME:CEST
TZOFFSETFROM:+0100
TZOFFSETTO:+0200
END:DAYLIGHT
END:VTIMEZONE
BEGIN:VEVENT
UID:pretalx-bigre-rencontre-2022-CDGTS3@programme.bigre.coop
DTSTART;TZID=CET:20220824T143000
DTEND;TZID=CET:20220824T170000
DESCRIPTION:Que ton projet soit naissant\, en cours de structuration ou dé
 jà mature\, se donner quelques repères pour estimer la viabilité de ton
  projet est souvent bien utile. Le but est d’avoir une vue simple et ré
 sumée de ton plan financier\, au point qu’il tient sur un carton de bi
 ère. Ici des notions simples d'économie pour se donner des clés de lect
 ure !
DTSTAMP:20260421T115829Z
LOCATION:Salle Gabian
SUMMARY:Comment tester la viabilité d’un projet ? (les bases) - Luna Wal
 lyn
URL:https://programme.bigre.coop/bigre-rencontre-2022/talk/CDGTS3/
END:VEVENT
END:VCALENDAR
