BEGIN:VCALENDAR
VERSION:2.0
PRODID:-//pretalx//programme.bigre.coop//bigre-rencontre-2022//talk//BYW9GF
BEGIN:VTIMEZONE
TZID:CET
BEGIN:STANDARD
DTSTART:20001029T040000
RRULE:FREQ=YEARLY;BYDAY=-1SU;BYMONTH=10
TZNAME:CET
TZOFFSETFROM:+0200
TZOFFSETTO:+0100
END:STANDARD
BEGIN:DAYLIGHT
DTSTART:20000326T030000
RRULE:FREQ=YEARLY;BYDAY=-1SU;BYMONTH=3
TZNAME:CEST
TZOFFSETFROM:+0100
TZOFFSETTO:+0200
END:DAYLIGHT
END:VTIMEZONE
BEGIN:VEVENT
UID:pretalx-bigre-rencontre-2022-BYW9GF@programme.bigre.coop
DTSTART;TZID=CET:20220824T173000
DTEND;TZID=CET:20220824T184500
DESCRIPTION:Préparation vocale à la scène ouverte ou à l'enregistrement
  radio d'un texte écrit en atelier pour celles et ceux qui ont participé
  à l'atelier d'écriture. \n\nConditions d'accès : avoir participé à l
 'atelier d'écriture le lundi 22 août de 17h30 à 18h45.
DTSTAMP:20260421T120012Z
LOCATION:Salle Oratoire
SUMMARY:Atelier de préparation vocale - Samantha Breitembruch
URL:https://programme.bigre.coop/bigre-rencontre-2022/talk/BYW9GF/
END:VEVENT
END:VCALENDAR
