BEGIN:VCALENDAR
VERSION:2.0
PRODID:-//pretalx//programme.bigre.coop//bigre-rencontre-2022//talk//BMWWQM
BEGIN:VTIMEZONE
TZID:CET
BEGIN:STANDARD
DTSTART:20001029T040000
RRULE:FREQ=YEARLY;BYDAY=-1SU;BYMONTH=10
TZNAME:CET
TZOFFSETFROM:+0200
TZOFFSETTO:+0100
END:STANDARD
BEGIN:DAYLIGHT
DTSTART:20000326T030000
RRULE:FREQ=YEARLY;BYDAY=-1SU;BYMONTH=3
TZNAME:CEST
TZOFFSETFROM:+0100
TZOFFSETTO:+0200
END:DAYLIGHT
END:VTIMEZONE
BEGIN:VEVENT
UID:pretalx-bigre-rencontre-2022-BMWWQM@programme.bigre.coop
DTSTART;TZID=CET:20220823T090000
DTEND;TZID=CET:20220823T120000
DESCRIPTION:Création d'une fiction radiophonique en deux demi-journées : 
 imaginer\, écrire\, enregistrer et bruiter une fiction sonore destinée 
 à être diffusée en radio ou spectacle vivant. Matinée : conception\, d
 écoupage\, écriture. Après-midi : enregistrement\, bruitage\, musique.\
 n\nConditions d'accès : participer à la suite\, l'atelier du mardi aprè
 s-midi de 14h30 à 17h "création de fiction radiophonique (2/2)".
DTSTAMP:20260421T115924Z
LOCATION:Théâtre
SUMMARY:Création de fiction radiophonique (1/2) - Maylis Détrie
URL:https://programme.bigre.coop/bigre-rencontre-2022/talk/BMWWQM/
END:VEVENT
END:VCALENDAR
