BEGIN:VCALENDAR
VERSION:2.0
PRODID:-//pretalx//programme.bigre.coop//bigre-rencontre-2022//talk//BEP9TN
BEGIN:VTIMEZONE
TZID:CET
BEGIN:STANDARD
DTSTART:20001029T040000
RRULE:FREQ=YEARLY;BYDAY=-1SU;BYMONTH=10
TZNAME:CET
TZOFFSETFROM:+0200
TZOFFSETTO:+0100
END:STANDARD
BEGIN:DAYLIGHT
DTSTART:20000326T030000
RRULE:FREQ=YEARLY;BYDAY=-1SU;BYMONTH=3
TZNAME:CEST
TZOFFSETFROM:+0100
TZOFFSETTO:+0200
END:DAYLIGHT
END:VTIMEZONE
BEGIN:VEVENT
UID:pretalx-bigre-rencontre-2022-BEP9TN@programme.bigre.coop
DTSTART;TZID=CET:20220825T100000
DTEND;TZID=CET:20220825T120000
DESCRIPTION:Savoir créer à partir de récupération !
DTSTAMP:20260421T121350Z
LOCATION:Pinède accueil
SUMMARY:Éponges tawashi - Claire Morandeau
URL:https://programme.bigre.coop/bigre-rencontre-2022/talk/BEP9TN/
END:VEVENT
END:VCALENDAR
