BEGIN:VCALENDAR
VERSION:2.0
PRODID:-//pretalx//programme.bigre.coop//bigre-rencontre-2022//talk//B7YQ9G
BEGIN:VTIMEZONE
TZID:CET
BEGIN:STANDARD
DTSTART:20001029T040000
RRULE:FREQ=YEARLY;BYDAY=-1SU;BYMONTH=10
TZNAME:CET
TZOFFSETFROM:+0200
TZOFFSETTO:+0100
END:STANDARD
BEGIN:DAYLIGHT
DTSTART:20000326T030000
RRULE:FREQ=YEARLY;BYDAY=-1SU;BYMONTH=3
TZNAME:CEST
TZOFFSETFROM:+0100
TZOFFSETTO:+0200
END:DAYLIGHT
END:VTIMEZONE
BEGIN:VEVENT
UID:pretalx-bigre-rencontre-2022-B7YQ9G@programme.bigre.coop
DTSTART;TZID=CET:20220824T090000
DTEND;TZID=CET:20220824T120000
DESCRIPTION:La Manufacture Coopérative porte une recherche-action-créatio
 n sur l’émancipation et la sécurisation des parcours des entrepreneur
 ·es-salarié·es.\nPour alimenter le recueil de données\, un questionnai
 re a été diffusé au printemps 2022 dans le milieu des Coopérative d'Ac
 tivité et d'Emploi (CAE\, forme française de coopératives de travailleu
 r·euses).\nNous vous invitons à une session live de traitement statistiq
 ue des données. L’occasion de  découvrir une partie de la réalité en
 trepreneuriale en CAE. \nL’occasion aussi de recollectiviser les problé
 matiques traversées individuellement et par les chiffres\, mettre en mots
  nos réalités si riches et complexes\, acteur·trice et chercheur·euse 
 !\n\nUne illustration pour rendre concret :\n“Tiens Thibaud\, j’ai une
  idée et si tu croisais la projection dans le temps et le sentiment de pr
 écarité\, ça donne quoi ?” \n\nPrérequis : avoir rempli le questionn
 aire (c’est mieux) sur le site recherche-action.vivreletravail.net/\nÊt
 re fana des chiffres et des stat n’est pas du tout une obligation. Au co
 ntraire\, ici l’idée\, c’est de jouer avec les chiffres !\n\nEn Guest
 \, Thibaud Deguilhem\, professeur et économiste à l’Université de Par
 is.
DTSTAMP:20260421T120102Z
LOCATION:Salle Aigrettes
SUMMARY:Stat’ live session ! - "Émancipation des travailleur·euses auto
 nomes" - Samuel Michalon\, Céline Pochon
URL:https://programme.bigre.coop/bigre-rencontre-2022/talk/B7YQ9G/
END:VEVENT
END:VCALENDAR
