BEGIN:VCALENDAR
VERSION:2.0
PRODID:-//pretalx//programme.bigre.coop//bigre-rencontre-2022//talk//ARJN3V
BEGIN:VTIMEZONE
TZID:CET
BEGIN:STANDARD
DTSTART:20001029T040000
RRULE:FREQ=YEARLY;BYDAY=-1SU;BYMONTH=10
TZNAME:CET
TZOFFSETFROM:+0200
TZOFFSETTO:+0100
END:STANDARD
BEGIN:DAYLIGHT
DTSTART:20000326T030000
RRULE:FREQ=YEARLY;BYDAY=-1SU;BYMONTH=3
TZNAME:CEST
TZOFFSETFROM:+0100
TZOFFSETTO:+0200
END:DAYLIGHT
END:VTIMEZONE
BEGIN:VEVENT
UID:pretalx-bigre-rencontre-2022-ARJN3V@programme.bigre.coop
DTSTART;TZID=CET:20220824T090000
DTEND;TZID=CET:20220824T120000
DESCRIPTION:La·le clown est un être sensible. Toutes les émotions la·le
  traversent\, la peur\, la joie\, la tristesse\, la colère... Je propose 
 avec des outils et des situations simples de venir contacter ces émotions
  pour la première fois ou pas\, afin de voir la puissance qu'elles ont qu
 and\, au lieu de les dissimuler\, nous prenons le parti de les vivre et de
  les montrer. Pas de costume ou de maquillage\, juste besoin de chausser u
 n nez et vivre l'instant !
DTSTAMP:20260421T120037Z
LOCATION:Pinède Scène
SUMMARY:Découverte du clown sensible - Yannick Omnes
URL:https://programme.bigre.coop/bigre-rencontre-2022/talk/ARJN3V/
END:VEVENT
END:VCALENDAR
