BEGIN:VCALENDAR
VERSION:2.0
PRODID:-//pretalx//programme.bigre.coop//bigre-rencontre-2022//talk//AESM8C
BEGIN:VTIMEZONE
TZID:CET
BEGIN:STANDARD
DTSTART:20001029T040000
RRULE:FREQ=YEARLY;BYDAY=-1SU;BYMONTH=10
TZNAME:CET
TZOFFSETFROM:+0200
TZOFFSETTO:+0100
END:STANDARD
BEGIN:DAYLIGHT
DTSTART:20000326T030000
RRULE:FREQ=YEARLY;BYDAY=-1SU;BYMONTH=3
TZNAME:CEST
TZOFFSETFROM:+0100
TZOFFSETTO:+0200
END:DAYLIGHT
END:VTIMEZONE
BEGIN:VEVENT
UID:pretalx-bigre-rencontre-2022-AESM8C@programme.bigre.coop
DTSTART;TZID=CET:20220823T173000
DTEND;TZID=CET:20220823T184500
DESCRIPTION:C'est la fin de journée... certains profitent de la plage\, d'
 autres s'assoient tranquillement à la terrasse du bar. Bonne idée : une 
 émission de radio\, concoctée à plusieurs mains et voix\, vous attend j
 ustement tous les jours à 17h30 en face de la terrasse. Viens écouter\, 
 en musique\, les témoignages\, réflexions et histoires des Bigristes !\n
 \nCe mardi\, nous parlerons des actualités des recherches par et pour les
  coopératives.\nDiscussion avec des chercheur·euses-acteur·rices pour c
 omprendre leur démarche et imaginer ensemble\, avec l’aide de notre pub
 lic bigriste préféré\, les perspectives à tracer pour que la recherche
  continue à alimenter et à dynamiser nos ambitions de transformation soc
 iale.\nAnimation par Noémie de Grenier.
DTSTAMP:20260421T115857Z
LOCATION:Théâtre
SUMMARY:Bigre! Radio - Noémie de Grenier
URL:https://programme.bigre.coop/bigre-rencontre-2022/talk/AESM8C/
END:VEVENT
END:VCALENDAR
