BEGIN:VCALENDAR
VERSION:2.0
PRODID:-//pretalx//programme.bigre.coop//bigre-rencontre-2022//talk//ADWUHA
BEGIN:VTIMEZONE
TZID:CET
BEGIN:STANDARD
DTSTART:20001029T040000
RRULE:FREQ=YEARLY;BYDAY=-1SU;BYMONTH=10
TZNAME:CET
TZOFFSETFROM:+0200
TZOFFSETTO:+0100
END:STANDARD
BEGIN:DAYLIGHT
DTSTART:20000326T030000
RRULE:FREQ=YEARLY;BYDAY=-1SU;BYMONTH=3
TZNAME:CEST
TZOFFSETFROM:+0100
TZOFFSETTO:+0200
END:DAYLIGHT
END:VTIMEZONE
BEGIN:VEVENT
UID:pretalx-bigre-rencontre-2022-ADWUHA@programme.bigre.coop
DTSTART;TZID=CET:20220822T143000
DTEND;TZID=CET:20220822T170000
DESCRIPTION:Pol'Inn\, le pôle d'innovation publique de la coopérative Oxa
 lis\, propose une découverte des enjeux\, de l'organisation et des action
 s du Blue Thau Lab\, un laboratoire à ciel ouvert créé par le Syndicat 
 Mixte du Bassin de Thau (SMBT) pour relever tous les défis liés à la tr
 ansition écologique des territoires littoraux et lagunaires. \n\nDans le 
 cadre de la poursuite de nos travaux de recherche-action sur l'innovation 
 publique\, cette visite sera conclue par une table-ronde avec Alexandre Pe
 nnaneac'h\, chef de projet au SMBT (thématiques abordées en cours de con
 ception : de l'innovation environnementale vers l'innovation sociale\, tra
 nsformer l'action publique au cœur depuis la marge\, logiques de coopéra
 tion avec les services et les élu·es\, etc.).\n\nPour en savoir plus sur
  Blue Thau Lab : https://www.bluethaulab.fr/\nEt sur Alexandre Pennaneac'h
  : https://www.linkedin.com/in/alexandre-pennaneac-h-63273395/
DTSTAMP:20260421T115857Z
LOCATION:pinède
SUMMARY:Visite & causerie\, découverte de la plateforme d'innovation colla
 borative BlueThau Lab - Colin Lemaitre
URL:https://programme.bigre.coop/bigre-rencontre-2022/talk/ADWUHA/
END:VEVENT
END:VCALENDAR
