BEGIN:VCALENDAR
VERSION:2.0
PRODID:-//pretalx//programme.bigre.coop//bigre-rencontre-2022//talk//9WWPD7
BEGIN:VTIMEZONE
TZID:CET
BEGIN:STANDARD
DTSTART:20001029T040000
RRULE:FREQ=YEARLY;BYDAY=-1SU;BYMONTH=10
TZNAME:CET
TZOFFSETFROM:+0200
TZOFFSETTO:+0100
END:STANDARD
BEGIN:DAYLIGHT
DTSTART:20000326T030000
RRULE:FREQ=YEARLY;BYDAY=-1SU;BYMONTH=3
TZNAME:CEST
TZOFFSETFROM:+0100
TZOFFSETTO:+0200
END:DAYLIGHT
END:VTIMEZONE
BEGIN:VEVENT
UID:pretalx-bigre-rencontre-2022-9WWPD7@programme.bigre.coop
DTSTART;TZID=CET:20220824T143000
DTEND;TZID=CET:20220824T170000
DESCRIPTION:Dans nos vies coopératives\, nous pouvons être témoins d’a
 ctes d’exclusion\, qu’ils soient subtils ou un peu moins. Pourtant\, i
 l n’est pas évident d’en parler. \n\n"Parler de discriminations dans 
 les espaces [activistes] risque de ruiner ce que l'activisme signifie pour
  nous\, cela menace l'éthique des mouvements de justice de la justice soc
 iale en tant que mouvements non oppressifs." (Julia Downes) \n\nCet atelie
 r vise à donner la parole à celles et ceux qui ont vécu ou observé des
  situations d’exclusion dans leur vie coopérative et à imaginer\, avec
  le groupe\, des solutions. Il invite les participant·es à réfléchir s
 ur leur rôle de témoin de discriminations et d’exclusion\, et de s’e
 ntraîner à intervenir.\nLes participant·es partiront avec une boîte à
  outils pour intervenir en tant que témoins de situations d’exclusion\,
  de discriminations et de violences.
DTSTAMP:20260421T115827Z
LOCATION:Salle Oratoire
SUMMARY:Agir pour l’inclusion dans nos coopératives : expérimenter avec
  le Théâtre Forum - Juliette Sanchez-Lambert
URL:https://programme.bigre.coop/bigre-rencontre-2022/talk/9WWPD7/
END:VEVENT
END:VCALENDAR
