BEGIN:VCALENDAR
VERSION:2.0
PRODID:-//pretalx//programme.bigre.coop//bigre-rencontre-2022//talk//9LAAHF
BEGIN:VTIMEZONE
TZID:CET
BEGIN:STANDARD
DTSTART:20001029T040000
RRULE:FREQ=YEARLY;BYDAY=-1SU;BYMONTH=10
TZNAME:CET
TZOFFSETFROM:+0200
TZOFFSETTO:+0100
END:STANDARD
BEGIN:DAYLIGHT
DTSTART:20000326T030000
RRULE:FREQ=YEARLY;BYDAY=-1SU;BYMONTH=3
TZNAME:CEST
TZOFFSETFROM:+0100
TZOFFSETTO:+0200
END:DAYLIGHT
END:VTIMEZONE
BEGIN:VEVENT
UID:pretalx-bigre-rencontre-2022-9LAAHF@programme.bigre.coop
DTSTART;TZID=CET:20220823T143000
DTEND;TZID=CET:20220823T170000
DESCRIPTION:Se connecter à ses ressources intérieures pour clarifier sa v
 ision\, organiser et passer à l'action pour la rentrée 2022 de son activ
 ité.
DTSTAMP:20260421T115856Z
LOCATION:Salle Martin-pêcheur 1
SUMMARY:Rêve et booste ta rentrée 2022 - Soazig Hernandez
URL:https://programme.bigre.coop/bigre-rencontre-2022/talk/9LAAHF/
END:VEVENT
END:VCALENDAR
