BEGIN:VCALENDAR
VERSION:2.0
PRODID:-//pretalx//programme.bigre.coop//bigre-rencontre-2022//talk//9GPZRY
BEGIN:VTIMEZONE
TZID:CET
BEGIN:STANDARD
DTSTART:20001029T040000
RRULE:FREQ=YEARLY;BYDAY=-1SU;BYMONTH=10
TZNAME:CET
TZOFFSETFROM:+0200
TZOFFSETTO:+0100
END:STANDARD
BEGIN:DAYLIGHT
DTSTART:20000326T030000
RRULE:FREQ=YEARLY;BYDAY=-1SU;BYMONTH=3
TZNAME:CEST
TZOFFSETFROM:+0100
TZOFFSETTO:+0200
END:DAYLIGHT
END:VTIMEZONE
BEGIN:VEVENT
UID:pretalx-bigre-rencontre-2022-9GPZRY@programme.bigre.coop
DTSTART;TZID=CET:20220822T210000
DTEND;TZID=CET:20220822T230000
DESCRIPTION:Ce soir\, chaque Bigriste peut s'exprimer\, en vers\, en chanso
 ns\, en mimes\, en slam\, en clown\, en sketch\, en impro! Chaque Bigriste
  est libre de nous montrer un petit bout de ses talents artistiques\, dans
  le respect mutuel des un·es et des autres.\n\n//\n\nTonight every ‘Big
 rista’ has the chance to express themselves in verse\, song\, mime\, sla
 m poetry\, clowning\, sketch comedy or improv! It’s the chance for every
 one to show off a little bit and share their artistic talents in a support
 ive and respectful atmosphere.
DTSTAMP:20260421T115858Z
LOCATION:pinède
SUMMARY:Scène ouverte // Open Mic - 
URL:https://programme.bigre.coop/bigre-rencontre-2022/talk/9GPZRY/
END:VEVENT
END:VCALENDAR
