BEGIN:VCALENDAR
VERSION:2.0
PRODID:-//pretalx//programme.bigre.coop//bigre-rencontre-2022//talk//8RR8CW
BEGIN:VTIMEZONE
TZID:CET
BEGIN:STANDARD
DTSTART:20001029T040000
RRULE:FREQ=YEARLY;BYDAY=-1SU;BYMONTH=10
TZNAME:CET
TZOFFSETFROM:+0200
TZOFFSETTO:+0100
END:STANDARD
BEGIN:DAYLIGHT
DTSTART:20000326T030000
RRULE:FREQ=YEARLY;BYDAY=-1SU;BYMONTH=3
TZNAME:CEST
TZOFFSETFROM:+0100
TZOFFSETTO:+0200
END:DAYLIGHT
END:VTIMEZONE
BEGIN:VEVENT
UID:pretalx-bigre-rencontre-2022-8RR8CW@programme.bigre.coop
DTSTART;TZID=CET:20220825T143000
DTEND;TZID=CET:20220825T170000
DESCRIPTION:Pour se mettre en action au quotidien ou pour réussir son proj
 et professionnel\, nous savons obéir aux obligations externes. Nous pouvo
 ns aussi nous appuyer sur nos rêves ou sur nos envies du moment. La carot
 te ou le bâton. Mais il est des sources de motivation plus puissantes car
  plus durables\, plus intrinsèques.\n\nLes neurosciences nous apprennent 
 que nos motivations primaires impactent notre engagement plus durablement 
 que les récompenses immédiates. \nAlors comment découvrir celles qui vo
 us font aller de l’avant ?\n\nBasée sur les recherches en sciences cogn
 itives et comportementales\, cet atelier propose de comprendre\, identifie
 r et mettre en œuvre tes forces intérieures qui animent et engagent mêm
 e face aux difficultés et aux contraintes.
DTSTAMP:20260421T115923Z
LOCATION:Salle Aigrettes
SUMMARY:Envie de booster ta satisfaction professionnelle? Mettre plus de se
 ns dans ta vie? Ose les motivations profondes\, plus puissantes et plus du
 rables! - Muriel Bessioud-Janoir
URL:https://programme.bigre.coop/bigre-rencontre-2022/talk/8RR8CW/
END:VEVENT
END:VCALENDAR
