BEGIN:VCALENDAR
VERSION:2.0
PRODID:-//pretalx//programme.bigre.coop//bigre-rencontre-2022//talk//8HTLU7
BEGIN:VTIMEZONE
TZID:CET
BEGIN:STANDARD
DTSTART:20001029T040000
RRULE:FREQ=YEARLY;BYDAY=-1SU;BYMONTH=10
TZNAME:CET
TZOFFSETFROM:+0200
TZOFFSETTO:+0100
END:STANDARD
BEGIN:DAYLIGHT
DTSTART:20000326T030000
RRULE:FREQ=YEARLY;BYDAY=-1SU;BYMONTH=3
TZNAME:CEST
TZOFFSETFROM:+0100
TZOFFSETTO:+0200
END:DAYLIGHT
END:VTIMEZONE
BEGIN:VEVENT
UID:pretalx-bigre-rencontre-2022-8HTLU7@programme.bigre.coop
DTSTART;TZID=CET:20220823T070000
DTEND;TZID=CET:20220823T083000
DESCRIPTION:Le yoga permet de débuter sereinement sa journée. Le faire au
  réveil\, est un moment privilégié: c’est ton moment. Prendre du temp
 s pour éveiller son corps\, avec quelques gestes est très bénéfique. C
 ela permet ensuite d’affronter la journée du mieux qu’il soit\, avec 
 une énergie positive\, un rythme calme et un corps actif. Pour démarrer 
 une journée du bon pied !
DTSTAMP:20260421T115832Z
LOCATION:Plage
SUMMARY:Inspiring Yoga: commencer la journée d'un bon pas - Elisa Pais
URL:https://programme.bigre.coop/bigre-rencontre-2022/talk/8HTLU7/
END:VEVENT
END:VCALENDAR
