BEGIN:VCALENDAR
VERSION:2.0
PRODID:-//pretalx//programme.bigre.coop//bigre-rencontre-2022//talk//8AJ3DF
BEGIN:VTIMEZONE
TZID:CET
BEGIN:STANDARD
DTSTART:20001029T040000
RRULE:FREQ=YEARLY;BYDAY=-1SU;BYMONTH=10
TZNAME:CET
TZOFFSETFROM:+0200
TZOFFSETTO:+0100
END:STANDARD
BEGIN:DAYLIGHT
DTSTART:20000326T030000
RRULE:FREQ=YEARLY;BYDAY=-1SU;BYMONTH=3
TZNAME:CEST
TZOFFSETFROM:+0100
TZOFFSETTO:+0200
END:DAYLIGHT
END:VTIMEZONE
BEGIN:VEVENT
UID:pretalx-bigre-rencontre-2022-8AJ3DF@programme.bigre.coop
DTSTART;TZID=CET:20220823T143000
DTEND;TZID=CET:20220823T170000
DESCRIPTION:rEGALons-nous présente son jeu de cartes " elle était une foi
 s". Basé sous la forme d'un time Line\, l'idée est de (re)découvrir de 
 manière ludique une autre histoire de France\, celle des luttes féminist
 es. D'autres petits jeux viendront compléter l'atelier.\n\nC'est ce à qu
 oi s'attèle la Coordination Nationale Féministe créée en 2020\, qui re
 groupe des collectifs féministes de toute la France. Une première rencon
 tre s'est tenue à Rennes en janvier 2022\, une seconde aura lieu à Greno
 ble en juillet 2023. Des ateliers\, des débats\, des écritures d'appels 
 à la lutte\, au sein de Coordination ça bosse et ça s'organise. Une gr
 ève féministe donc\, mais qui restera un doux rêve si l'on ne l'amène 
 pas sur nos lieux de travail. \n\nCet atelier d'éducation populaire invit
 e donc à venir discuter autour de plusieurs enjeux. Pourquoi la grève ? 
 Comment la diffuser et la rendre concrète dans nos coopératives ? Avec q
 uels moyens ? Tout est à imaginer et on a hâte !
DTSTAMP:20260421T115925Z
LOCATION:Salle Cette
SUMMARY:Animation du jeu de carte  « elle était une fois » - Charlotte G
 autier\, Antinéa Lestien Brisson
URL:https://programme.bigre.coop/bigre-rencontre-2022/talk/8AJ3DF/
END:VEVENT
END:VCALENDAR
