BEGIN:VCALENDAR
VERSION:2.0
PRODID:-//pretalx//programme.bigre.coop//bigre-rencontre-2022//talk//7ZHQ37
BEGIN:VTIMEZONE
TZID:CET
BEGIN:STANDARD
DTSTART:20001029T040000
RRULE:FREQ=YEARLY;BYDAY=-1SU;BYMONTH=10
TZNAME:CET
TZOFFSETFROM:+0200
TZOFFSETTO:+0100
END:STANDARD
BEGIN:DAYLIGHT
DTSTART:20000326T030000
RRULE:FREQ=YEARLY;BYDAY=-1SU;BYMONTH=3
TZNAME:CEST
TZOFFSETFROM:+0100
TZOFFSETTO:+0200
END:DAYLIGHT
END:VTIMEZONE
BEGIN:VEVENT
UID:pretalx-bigre-rencontre-2022-7ZHQ37@programme.bigre.coop
DTSTART;TZID=CET:20220824T090000
DTEND;TZID=CET:20220824T120000
DESCRIPTION:découvrir sa joie de vivre et raison d'être par le jeu
DTSTAMP:20260421T120000Z
LOCATION:Salle Gabian
SUMMARY:My'ikigaï : découvrir sa joie de vivre et raison d'être par le j
 eu - Mickaël Ramseyer
URL:https://programme.bigre.coop/bigre-rencontre-2022/talk/7ZHQ37/
END:VEVENT
END:VCALENDAR
