BEGIN:VCALENDAR
VERSION:2.0
PRODID:-//pretalx//programme.bigre.coop//bigre-rencontre-2022//talk//7VA7FY
BEGIN:VTIMEZONE
TZID:CET
BEGIN:STANDARD
DTSTART:20001029T040000
RRULE:FREQ=YEARLY;BYDAY=-1SU;BYMONTH=10
TZNAME:CET
TZOFFSETFROM:+0200
TZOFFSETTO:+0100
END:STANDARD
BEGIN:DAYLIGHT
DTSTART:20000326T030000
RRULE:FREQ=YEARLY;BYDAY=-1SU;BYMONTH=3
TZNAME:CEST
TZOFFSETFROM:+0100
TZOFFSETTO:+0200
END:DAYLIGHT
END:VTIMEZONE
BEGIN:VEVENT
UID:pretalx-bigre-rencontre-2022-7VA7FY@programme.bigre.coop
DTSTART;TZID=CET:20220825T090000
DTEND;TZID=CET:20220825T120000
DESCRIPTION:Viens proposer\, animer et profiter de cette matinée pour éch
 anger ou travailler avec les autres Bigristes rencontré·es plus tôt dan
 s la semaine\, ou que tu souhaites justement rencontrer ce matin !\n\n//\n
 \nCome share ideas\, get organised and take advantage of this morning to c
 onnect or work with other ‘Bigristas’ that you’ve met or been meanin
 g to meet over the course of the week!
DTSTAMP:20260421T115924Z
LOCATION:pinède
SUMMARY:Jeudi matin\, c'est ta matinée! // Thursday morning is your time t
 o rise and shine! - 
URL:https://programme.bigre.coop/bigre-rencontre-2022/talk/7VA7FY/
END:VEVENT
END:VCALENDAR
