BEGIN:VCALENDAR
VERSION:2.0
PRODID:-//pretalx//programme.bigre.coop//bigre-rencontre-2022//talk//7UGJLZ
BEGIN:VTIMEZONE
TZID:CET
BEGIN:STANDARD
DTSTART:20001029T040000
RRULE:FREQ=YEARLY;BYDAY=-1SU;BYMONTH=10
TZNAME:CET
TZOFFSETFROM:+0200
TZOFFSETTO:+0100
END:STANDARD
BEGIN:DAYLIGHT
DTSTART:20000326T030000
RRULE:FREQ=YEARLY;BYDAY=-1SU;BYMONTH=3
TZNAME:CEST
TZOFFSETFROM:+0100
TZOFFSETTO:+0200
END:DAYLIGHT
END:VTIMEZONE
BEGIN:VEVENT
UID:pretalx-bigre-rencontre-2022-7UGJLZ@programme.bigre.coop
DTSTART;TZID=CET:20220824T090000
DTEND;TZID=CET:20220824T120000
DESCRIPTION:L'objectif est de créer un espace de discussion entre particip
 ant·es français·es et participant·es européen·nes afin d’échanger
  sur les expériences et de discuter des opportunités et des défis posé
 s par la transition numérique aux coopératives et coopérateur·trices :
  la transformation digitale des coopératives\, la gouvernance digitale\, 
 la création et l’expension des plateformes coopératives\, les conditio
 ns de travail des travailleurs des plateformes\, l'impact de la digitalisa
 tion sur les travailleurs des coopératives\, le financement de la digital
 isation\, les partenariats multipartites pour la digitalisation\, etc.  \n
 L'atelier permettra aux participant·es de prendre part activement aux dis
 cussions et de proposer des points de vue et des solutions spécifiques qu
 i pourront ensuite être partagés. \n\nAvec CECOP\,  the European confede
 ration of industrial and service cooperative.\n\n//\n\nThis workshop aims 
 to create a space where participants from France and all over Europe can s
 hare their experiences and discuss the opportunities and challenges presen
 ted by the process of digitisation: digital transformation in cooperatives
 \, digital governance\, the creation and expansion of platform cooperative
 s\, working conditions for platform workers\, the impact of digitisation o
 n cooperative workers\, how to finance digitisation\, multi-stakeholder pa
 rtnerships for digitisation\, etc.  \n\nParticipants will have the opportu
 nity to actively participate in discussions\, offer their point of view an
 d propose specific solutions to be shared.  \n\nIn collaboration with CECO
 P\, the European confederation of industrial and service cooperatives.
DTSTAMP:20260421T115923Z
LOCATION:Salle Méditerranée
SUMMARY:Digitalisation et coopératives: quelles perspectives en France et 
 en Europe? // Digitisation and cooperatives: Prospects in France and in Eu
 rope - Diana Potjomkina
URL:https://programme.bigre.coop/bigre-rencontre-2022/talk/7UGJLZ/
END:VEVENT
END:VCALENDAR
