BEGIN:VCALENDAR
VERSION:2.0
PRODID:-//pretalx//programme.bigre.coop//bigre-rencontre-2022//talk//7TEVRT
BEGIN:VTIMEZONE
TZID:CET
BEGIN:STANDARD
DTSTART:20001029T040000
RRULE:FREQ=YEARLY;BYDAY=-1SU;BYMONTH=10
TZNAME:CET
TZOFFSETFROM:+0200
TZOFFSETTO:+0100
END:STANDARD
BEGIN:DAYLIGHT
DTSTART:20000326T030000
RRULE:FREQ=YEARLY;BYDAY=-1SU;BYMONTH=3
TZNAME:CEST
TZOFFSETFROM:+0100
TZOFFSETTO:+0200
END:DAYLIGHT
END:VTIMEZONE
BEGIN:VEVENT
UID:pretalx-bigre-rencontre-2022-7TEVRT@programme.bigre.coop
DTSTART;TZID=CET:20220823T143000
DTEND;TZID=CET:20220823T170000
DESCRIPTION:Mettre en récit\, lors d'un atelier\, des expériences personn
 elles trop souvent gardées dans le secret\, et pourquoi pas ? En trouvant
  les mots pour décrire l'intime dans sa particularité\, chacun offrira u
 n imaginaire diversifié qui rend compte de la singularité des réalités
  de chacun·e. \n\nEn deux séances\, les auteur·trices déploieront leur
  écriture à travers quelques jeux d'écriture permettant de délier l'im
 aginaire jusqu'à la production de l'écrit proprement dit. Cet écrit est
  court (maximum 10 minutes de lecture)\, parle en "je"\, explore l'intime\
 , ce qu'on n'ose pas dire\, les tabous\, interdits\, choses cocasses\, hon
 teuses\, les anecdotes comiques ou dramatiques. \n\nConditions d'accès : 
 participer au second atelier "écriture intimiste (2/2)" le jeudi matin de
  10h à 12h.
DTSTAMP:20260421T115959Z
LOCATION:Pinède Frégate
SUMMARY:Écriture intimiste (1/2) - Bénédicte Monnoye
URL:https://programme.bigre.coop/bigre-rencontre-2022/talk/7TEVRT/
END:VEVENT
END:VCALENDAR
