BEGIN:VCALENDAR
VERSION:2.0
PRODID:-//pretalx//programme.bigre.coop//bigre-rencontre-2022//speaker//ZXZ
 ZF3
BEGIN:VTIMEZONE
TZID:CET
BEGIN:STANDARD
DTSTART:20001029T040000
RRULE:FREQ=YEARLY;BYDAY=-1SU;BYMONTH=10
TZNAME:CET
TZOFFSETFROM:+0200
TZOFFSETTO:+0100
END:STANDARD
BEGIN:DAYLIGHT
DTSTART:20000326T030000
RRULE:FREQ=YEARLY;BYDAY=-1SU;BYMONTH=3
TZNAME:CEST
TZOFFSETFROM:+0100
TZOFFSETTO:+0200
END:DAYLIGHT
END:VTIMEZONE
BEGIN:VEVENT
UID:pretalx-bigre-rencontre-2022-3BW9FM@programme.bigre.coop
DTSTART;TZID=CET:20220823T143000
DTEND;TZID=CET:20220823T170000
DESCRIPTION:Parfois\, passer en indépendant·e\, c'est vouloir mettre en 
 œuvre de nouvelles méthodologies\, ou encore\, développer une approche 
 plus personnelle\, et ce notamment quand on vient de l'univers des agences
  de com... Venez partager vos découvertes et vos intuitions de travail ! 
 \n\nNous vous proposons cette séquence d'échanges de pratiques avec une 
 idée derrière la tête : l'espoir qu'en repérant des similitudes et des
  complémentarités dans nos approches\, nous commencions à dessiner des 
 coopérations entre graphistes et même (soyons folles·fous !) à esquiss
 er des solidarités autour de nos missions. Notre profession n'est spontan
 ément pas très organisée\, on peut peut-être y changer quelque chose ?
  \n\nL'atelier se déroulera en deux temps : courts pitchs des participant
 ·es motivé·es et questions / réponses\, puis discussion libre autour d
 e nos étonnements et idées de synergies.
DTSTAMP:20260421T114520Z
LOCATION:Pinède accueil
SUMMARY:Graphistes : comment travaillez-vous? - Margot Nadot\, Jean Robert
URL:https://programme.bigre.coop/bigre-rencontre-2022/talk/3BW9FM/
END:VEVENT
END:VCALENDAR
