BEGIN:VCALENDAR
VERSION:2.0
PRODID:-//pretalx//programme.bigre.coop//bigre-rencontre-2022//speaker//ZVP
 B8P
BEGIN:VTIMEZONE
TZID:CET
BEGIN:STANDARD
DTSTART:20001029T040000
RRULE:FREQ=YEARLY;BYDAY=-1SU;BYMONTH=10
TZNAME:CET
TZOFFSETFROM:+0200
TZOFFSETTO:+0100
END:STANDARD
BEGIN:DAYLIGHT
DTSTART:20000326T030000
RRULE:FREQ=YEARLY;BYDAY=-1SU;BYMONTH=3
TZNAME:CEST
TZOFFSETFROM:+0100
TZOFFSETTO:+0200
END:DAYLIGHT
END:VTIMEZONE
BEGIN:VEVENT
UID:pretalx-bigre-rencontre-2022-WJZHG8@programme.bigre.coop
DTSTART;TZID=CET:20220818T100000
DTEND;TZID=CET:20220818T120000
DESCRIPTION:Un atelier pour t'emmener au coeur de Sète et réaliser une s
 érie de portraits en lien avec la ville. Des chroniques et diptyques Port
 raits - Paysages. \n\nLors de cet atelier photo ludique\, nous constituero
 ns ensemble des séries pour apprendre les règles photo de base et la cr
 éation d'un projet ! L'axe de réalisation de dytique Portraits de person
 nes (Plan serré) / Paysages (Plan large) autour de la ville peut être un
  bon fil conducteur pour la constitution de séries photographiques autour
  de Sète et des participant·es de l'atelier. Comment situer quelqu'un da
 ns son environnement\, son quartier\, sa ville ? Au niveau esthétique\, c
 omment accorder les deux clichés et livrer un maximum d'informations sur 
 cet ensemble ? L'harmonie des formes\, des couleurs\, le contraste archite
 ctural et l'émotion des photos sont à prendre en compte pour constituer 
 cette composition.\n\nConditions d'accès : participer à l'atelier du jeu
 di après-midi de 14h30 à 17h "atelier photo reportage & portraits à Sè
 te (2/2)".
DTSTAMP:20260421T120103Z
LOCATION:Pinède Scène
SUMMARY:Atelier photo reportage & portraits à Sète (1/2) - Aurore Vinot
URL:https://programme.bigre.coop/bigre-rencontre-2022/talk/WJZHG8/
END:VEVENT
BEGIN:VEVENT
UID:pretalx-bigre-rencontre-2022-7ELK3W@programme.bigre.coop
DTSTART;TZID=CET:20220825T143000
DTEND;TZID=CET:20220825T170000
DESCRIPTION:Un atelier pour t'emmener au cœur de Sète et réaliser une s
 érie de portraits en lien avec la ville. Des chroniques et diptyques Port
 raits - Paysages. \n\nLors de cet atelier photo ludique\, nous constituero
 ns ensemble des séries pour apprendre les règles photo de base et la cr
 éation d'un projet ! L'axe de réalisation de dytique Portraits de person
 nes (Plan serré) / Paysages (Plan large) autour de la ville peut être un
  bon fil conducteur pour la constitution de séries photographiques autour
  de Sète et des participant·es de l'atelier. Comment situer quelqu'un da
 ns son environnement\, son quartier\, sa ville ? Au niveau esthétique\, c
 omment accorder les deux clichés et livrer un maximum d'informations sur 
 cet ensemble ? L'harmonie des formes\, des couleurs\, le contraste archite
 ctural et l'émotion des photos sont à prendre en compte pour constituer 
 cette composition.\n\nConditions d'accès : avoir participé à l'atelier 
 du jeudi matin de 9h à 12h "atelier photo reportage & portraits à Sète 
 (1/2)".
DTSTAMP:20260421T120103Z
LOCATION:Hors Lazaret
SUMMARY:Atelier photo reportage & portraits à Sète (2/2) - Aurore Vinot
URL:https://programme.bigre.coop/bigre-rencontre-2022/talk/7ELK3W/
END:VEVENT
END:VCALENDAR
