BEGIN:VCALENDAR
VERSION:2.0
PRODID:-//pretalx//programme.bigre.coop//bigre-rencontre-2022//speaker//V7X
 GVV
BEGIN:VTIMEZONE
TZID:CET
BEGIN:STANDARD
DTSTART:20001029T040000
RRULE:FREQ=YEARLY;BYDAY=-1SU;BYMONTH=10
TZNAME:CET
TZOFFSETFROM:+0200
TZOFFSETTO:+0100
END:STANDARD
BEGIN:DAYLIGHT
DTSTART:20000326T030000
RRULE:FREQ=YEARLY;BYDAY=-1SU;BYMONTH=3
TZNAME:CEST
TZOFFSETFROM:+0100
TZOFFSETTO:+0200
END:DAYLIGHT
END:VTIMEZONE
BEGIN:VEVENT
UID:pretalx-bigre-rencontre-2022-QD8B33@programme.bigre.coop
DTSTART;TZID=CET:20220825T143000
DTEND;TZID=CET:20220825T170000
DESCRIPTION:- Un RDV client qui ne se passe pas aussi bien que vous l’aur
 iez voulu \; \n- Une prise de bec avec un fournisseur \; \n- Un conflit au
  sein de l'équipe projet \; \n- Une "baston" à séparer pendant un temps
  de formation \;\n- Ou encore un "relou" qui t'alpague dans la rue... ?\n\
 nBref\, toutes ces situations qui nous laissent un sentiment d'impuissance
  et qui rend parfois frustrantes nos vies de coopérateur·trices. Viens t
 ravailler collectivement sous forme de théâtre forum et trouver les éne
 rgies\, les réflexions pour agir sur les oppressions qui entachent nos qu
 otidiens et nos espoirs. Pour les formateur·trices\, c'est aussi l'occasi
 on d’expérimenter une démarche d’éducation populaire bien utile pou
 r réfléchir sur les pratiques professionnelles avec les groupes.
DTSTAMP:20260421T120124Z
LOCATION:Pinède Méditerranée
SUMMARY:"On aurait dit qu'on serait..." : atelier théâtre forum - Noémie
  Peyrel
URL:https://programme.bigre.coop/bigre-rencontre-2022/talk/QD8B33/
END:VEVENT
END:VCALENDAR
