BEGIN:VCALENDAR
VERSION:2.0
PRODID:-//pretalx//programme.bigre.coop//bigre-rencontre-2022//speaker//UW8
 J3X
BEGIN:VTIMEZONE
TZID:CET
BEGIN:STANDARD
DTSTART:20001029T040000
RRULE:FREQ=YEARLY;BYDAY=-1SU;BYMONTH=10
TZNAME:CET
TZOFFSETFROM:+0200
TZOFFSETTO:+0100
END:STANDARD
BEGIN:DAYLIGHT
DTSTART:20000326T030000
RRULE:FREQ=YEARLY;BYDAY=-1SU;BYMONTH=3
TZNAME:CEST
TZOFFSETFROM:+0100
TZOFFSETTO:+0200
END:DAYLIGHT
END:VTIMEZONE
BEGIN:VEVENT
UID:pretalx-bigre-rencontre-2022-FNX9EC@programme.bigre.coop
DTSTART;TZID=CET:20220824T143000
DTEND;TZID=CET:20220824T170000
DESCRIPTION:Deux heures pour découvrir la pensée visuelle !
DTSTAMP:20260421T120140Z
LOCATION:Salle Cette
SUMMARY:Initiation à la facilitation graphique et au sketchnoting - Cynthi
 a Vasiliu
URL:https://programme.bigre.coop/bigre-rencontre-2022/talk/FNX9EC/
END:VEVENT
END:VCALENDAR
